BEGIN:VCALENDAR
VERSION:2.0
PRODID:-//Ascend Sporting - ECPv6.15.17//NONSGML v1.0//EN
CALSCALE:GREGORIAN
METHOD:PUBLISH
X-WR-CALNAME:Ascend Sporting
X-ORIGINAL-URL:https://ascendsporting.com
X-WR-CALDESC:Events for Ascend Sporting
REFRESH-INTERVAL;VALUE=DURATION:PT1H
X-Robots-Tag:noindex
X-PUBLISHED-TTL:PT1H
BEGIN:VTIMEZONE
TZID:UTC
BEGIN:STANDARD
TZOFFSETFROM:+0000
TZOFFSETTO:+0000
TZNAME:UTC
DTSTART:20250101T000000
END:STANDARD
END:VTIMEZONE
BEGIN:VEVENT
DTSTART;TZID=UTC:20260101T000000
DTEND;TZID=UTC:20260207T003000
DTSTAMP:20260419T164852
CREATED:20180508T072142Z
LAST-MODIFIED:20260302T132559Z
UID:224-1767225600-1770424200@ascendsporting.com
SUMMARY:Events Coming Soon
DESCRIPTION:
URL:https://ascendsporting.com/event/events-coming-soon/
ATTACH;FMTTYPE=image/jpeg:https://ascendsporting.com/wp-content/uploads/2018/05/post-3-copyright.jpg
END:VEVENT
END:VCALENDAR